BEGIN:VCALENDAR
VERSION:2.0
PRODID:-//Anglo Argentine Society - ECPv6.15.20//NONSGML v1.0//EN
CALSCALE:GREGORIAN
METHOD:PUBLISH
X-ORIGINAL-URL:https://angloargentinesociety.org.uk
X-WR-CALDESC:Events for Anglo Argentine Society
REFRESH-INTERVAL;VALUE=DURATION:PT1H
X-Robots-Tag:noindex
X-PUBLISHED-TTL:PT1H
BEGIN:VTIMEZONE
TZID:Europe/London
BEGIN:DAYLIGHT
TZOFFSETFROM:+0000
TZOFFSETTO:+0100
TZNAME:BST
DTSTART:20250330T010000
END:DAYLIGHT
BEGIN:STANDARD
TZOFFSETFROM:+0100
TZOFFSETTO:+0000
TZNAME:GMT
DTSTART:20251026T010000
END:STANDARD
BEGIN:DAYLIGHT
TZOFFSETFROM:+0000
TZOFFSETTO:+0100
TZNAME:BST
DTSTART:20260329T010000
END:DAYLIGHT
BEGIN:STANDARD
TZOFFSETFROM:+0100
TZOFFSETTO:+0000
TZNAME:GMT
DTSTART:20261025T010000
END:STANDARD
BEGIN:DAYLIGHT
TZOFFSETFROM:+0000
TZOFFSETTO:+0100
TZNAME:BST
DTSTART:20270328T010000
END:DAYLIGHT
BEGIN:STANDARD
TZOFFSETFROM:+0100
TZOFFSETTO:+0000
TZNAME:GMT
DTSTART:20271031T010000
END:STANDARD
END:VTIMEZONE
BEGIN:VEVENT
DTSTART;TZID=Europe/London:20260517T110000
DTEND;TZID=Europe/London:20260517T180000
DTSTAMP:20260420T103120
CREATED:20260316T165519Z
LAST-MODIFIED:20260317T122716Z
UID:1793-1779015600-1779040800@angloargentinesociety.org.uk
SUMMARY:The Anglo-Argentine Society Gran Asado Argentino 2026
DESCRIPTION:Experience the vibrant flavours of Argentina at our annual Gran Asado Argentino\, featuring live music\, family fun and a fundraising raffle.\n\n\nWe are delighted to be back at the London Wasps Football Club (nearest tube Ealing Common) for our Gran Asado Argentino 2026. The venue has a large open space where our friends from Chango Empanadas\, alongside our volunteers\, will be preparing the lunch. There will be a large marquee with tables and chairs available on a first come first served basis. There is plenty of room in the grounds\, you are welcome to bring your own picnic equipment/gazebos. Guests are warmly encouraged to come dressed in traditional gaucho attire to help bring the spirit of the Asado to life. \nThe Wasps FC bar will be open throughout the day\, serving soft drinks\, beer\, spirits and hot drinks. \nHot water will also be available to refill your mate flasks. \nTicket Information: \nYour ticket includes the entry fee\, meats\, chorizo sausage and bread (choripan)\, black pudding (morcilla)\, lamb (cordero)\, chimichurri by Bacanas\, cherry tomatoes for garnish and entertainment. Vegetarian/vegan option is available upon request prior to the event. We are unable to accommodate vegetarian/vegan requests on the day. \nYou will need to bring your own plates\, cutlery\, salads and desserts. Soft and alcoholic drinks are available to purchase on the day\, or you can bring your own. Only plastic glasses are allowed on the premises. No glass will be allowed on the premises\, for the safety of the rugby players and school children that use the grounds. \nEarly Bird Tickets closes on 19 April. \nAnglo-Argentine Members \n\nAdult Ticket (13 years and Up): £55 (from 20 April £65) + booking fees.\nChildren (Ages 6 -12): £30 (from 20 April £35) + booking fees.\nChildren (Under 6): FREE\n\nNon-Members / General Tickets \n\nAdult Ticket (13 years and Up): £65 (from 20 April £75) + booking fees.\nChildren (Ages 6 -12): £35 (from 20 April £40) + booking fees.\nChildren (Under 6): FREE\n\nEarly bird rates are available for a limited time\, so book your tickets early to enjoy discounted prices. Discounts apply for Anglo-Argentine Society members. If you are not yet a member\, join up today to take advantage and other benefits our society offers. Annual membership to the AAS starts from £15. \nChildren under 6 years old can attend for free\, and special rates available for children aged 6 to 12. \n \nEvent Highlights: \n\nAuthentic Argentine Asado experience\nWide selection of grilled meats including choripan\, morcilla\, and cordero.\nLive music and entertainment from Dj Sergio Schuchinsky and other acts to be confirmed.\nLive Tango Show with David & Kim from Tango Movement\, plus a fun chacarera dance led by David where everyone is invited to join in.\nEvent MC Adolfo Tuñón\nTruco competition\, sponsored by Tango Interiors.\nFundraising raffle\nArgentine artisan stalls\, full list to be confirmed shortly.\n\n \nFundraising Raffle: \nOur annual fundraising raffle will also take place at the Gran Asado. Profits raised from the raffle and Gran Asado will go towards our work and supported charities\, Red Communidades Rurales and Haciendo Camino. You can find out more about how the AAS and your generosity supports these charities here: https://angloargentinesociety.org.uk/charities/ \nDetails of the raffle prizes and how to purchase tickets will be announced shortly. \n \nAdditional Information: \n\nThis event is suitable for all ages.\nVegetarian and vegan options will be available\, though you must let us know when booking.\nLimited tickets are available\, so book early to secure your spot!\nUnfortunately NO DOGS are allowed.\nCar parking is available at the venue for up to 80 cars (size dependent). Parking is allocated on a first come first served basis.\nThe event will not be cancelled for bad weather!\nPlease note tickets will not be sold at the door.\nFollow us on social media for updates.\n\n \nCancellation/Refund Policy: \nRefunds (minus the eventbrite booking fee) are available up to 7 days before the event starts. After this date no refunds can be made. \nGet your tickets now and join us for a celebration of Argentine cuisine at our Gran Asado! \n\n\nThank you to our Gran Asado Argentino 2026 sponsors Chango Empanadas\, Wasps FC\, and Tango Interiors plus many more. Our event is also kindly supported by The Embassy of Argentina in the UK. \nIf you’re interested in supporting our Asado or having a stall at the event\, contact us today at info@angloargentinesociety.co.uk.
URL:https://angloargentinesociety.org.uk/event/the-anglo-argentine-society-gran-asado-argentino-2026/
LOCATION:London Wasps FC\, Twyford avenue\, Acton\, London\, Greater London\, W3 9QA\, United Kingdom
ATTACH;FMTTYPE=image/jpeg:https://angloargentinesociety.org.uk/wp-content/uploads/2026/03/157a50095359e773bce5e21c0b8f4af0-PElyhZ.tmp_.jpg
END:VEVENT
END:VCALENDAR